Workbook

Sheet obs
A1: Bouldering In-Round Observations
A2: Athlete | D2: Jane Doe | L2: Event/Round | O2: Mock Comp - Friday | AA2: Date | AC2: / /
A3: Boulder 1 | D3: Primary Demand(s) | I3: Slab - balance/friction/precision | AF3: boulder score
A4: att. | B4: 1 | H4: 2 | N4: 3 | T4: 4 | Z4: 5 | AF4: T | AG4: Z | AH4: AT | AI4: AZ | AJ4: Attempts to correct read
F5: z | J5: z | R5: z | W5: T | AF5: 1 | AG5: 1 | AH5: 4 | AI5: 1
A6: Read | F6: x | J6: P | R6: P | W6: P | AJ6: 2
A7: Notes:
A9: Boulder 2 | D9: Primary Demand(s) | I9: Coordination - risk finish | AF9: boulder score
A10: att. | B10: 1 | H10: 2 | N10: 3 | T10: 4 | Z10: 5 | AF10: T | AG10: Z | AH10: AT | AI10: AZ | AJ10: Attempts to correct read
E11: x | I11: x | L11: z | T11: z | AA11: z | AG11: 1 | AI11: 3
A12: Read | E12: x | I12: x | L12: P | T12: P | AA12: P | AJ12: 3
A13: Notes:
A15: Boulder 3 | D15: Primary Demand(s) | I15: Steep - Power/Intensity | AF15: boulder score
A16: att. | B16: 1 | H16: 2 | N16: 3 | T16: 4 | Z16: 5 | AF16: T | AG16: Z | AH16: AT | AI16: AZ | AJ16: Attempts to correct read
E17: z | P17: T | AF17: 1 | AG17: 1 | AH17: 2 | AI17: 1
A18: Read | E18: P | P18: P | AJ18: 1
A19: Notes:
A21: Boulder 4 | D21: Primary Demand(s) | I21: Off Vert - Complex/Precise/Control | AF21: boulder score
A22: att. | B22: 1 | H22: 2 | N22: 3 | T22: 4 | Z22: 5 | AF22: T | AG22: Z | AH22: AT | AI22: AZ | AJ22: Attempts to correct read
G23: x | L23: x | P23: x | U23: x | Y23: z | AC23: T | AF23: 1 | AG23: 1 | AH23: 6 | AI23: 5
A24: Read | G24: x | L24: x | P24: x | U24: x | Y24: P | AC24: P | AJ24: 5
A25: Notes:
A27: Boulder 5 | D27: Primary Demand(s) | I27: Dihedral - Insecure/Risk/ Mobility | AF27: boulder score
A28: att. | B28: 1 | H28: 2 | N28: 3 | T28: 4 | Z28: 5 | AF28: T | AG28: Z | AH28: AT | AI28: AZ | AJ28: Attempts to correct read
G29: x | J29: x | N29: x | R29: z | X29: z | AC29: T | AF29: 1 | AG29: 1 | AH29: 6 | AI29: 4
A30: Read | G30: x | J30: x | N30: P | R30: P | X30: P | AC30: P | AJ30: 3
A31: Notes:
A33: round notes: | AF33: round score
AF34: T | AG34: Z | AH34: AT | AI34: AZ
AF35: =SUM(AF29+AF23+AF17+AF11+AF5) -> 4 | AG35: =SUM(AG29+AG23+AG17+AG11+AG5) -> 5 | AH35: =SUM(AH29+AH23+AH17+AH11+AH5) -> 18 | AI35: =SUM(AI29+AI23+AI17+AI11+AI5) -> 14

Sheet data
A1: Round Data
A2: round score | E2: Round Position
A3: T | B3: Z | C3: AT | D3: AZ
A4: =obs!AF35 -> 4 | B4: =obs!AG35 -> 5 | C4: =obs!AH35 -> 18 | D4: =obs!AI35 -> 14
G5: Target - Total Attempts
A6: Total Attempts | F6: Round Total
A7: B1 | B7: B2 | C7: B3 | D7: B4 | E7: B5
A8: =COUNTIF(obs!B5:AE5,"x")+COUNTIF(obs!B5:AE5,"Z")+COUNTIF(obs!B5:AE5,"T") -> 4 | B8: =COUNTIF(obs!B11:AE11,"x")+COUNTIF(obs!B11:AE11,"Z")+COUNTIF(obs!B11:AE11,"T") -> 5 | C8: =COUNTIF(obs!B17:AE17,"x")+COUNTIF(obs!B17:AE17,"Z")+COUNTIF(obs!B17:AE17,"T") -> 2 | D8: =COUNTIF(obs!B23:AE23,"x")+COUNTIF(obs!B23:AE23,"Z")+COUNTIF(obs!B23:AE23,"T") -> 6 | E8: =COUNTIF(obs!B29:AE29,"x")+COUNTIF(obs!B29:AE29,"Z")+COUNTIF(obs!B29:AE29,"T") -> 6 | F8: =SUM(A8:E8) -> 23 | G8: 20
A10: Attempt Distribution
A11: Min 1 | B11: Min 2 | C11: Min 3 | D11: Min 4 | E11: Min 5
A12: =COUNTIF(obs!B5:G5,"x")+COUNTIF(obs!B5:G5,"Z")+COUNTIF(obs!B5:G5,"T")+COUNTIF(obs!B11:G11,"x")+COUNTIF(obs!B11:G11,"Z")+COUNTIF(obs!B11:G11,"T")+COUNTIF(obs!B17:G17,"x")+COUNTIF(obs!B17:G17,"Z")+COUNTIF(obs!B17:G17,"T")+COUNTIF(obs!B23:G23,"x")+COUNTIF(obs!B23:G23,"Z")+COUNTIF(obs!B23:G23,"T")+COUNTIF(obs!B29:G29,"x")+COUNTIF(obs!B29:G29,"Z")+COUNTIF(obs!B29:G29,"T") -> 5 | B12: =COUNTIF(obs!H5:M5,"x")+COUNTIF(obs!H5:M5,"Z")+COUNTIF(obs!H5:M5,"T")+COUNTIF(obs!H11:M11,"x")+COUNTIF(obs!H11:M11,"Z")+COUNTIF(obs!H11:M11,"T")+COUNTIF(obs!H17:M17,"x")+COUNTIF(obs!H17:M17,"Z")+COUNTIF(obs!H17:M17,"T")+COUNTIF(obs!H23:M23,"x")+COUNTIF(obs!H23:M23,"Z")+COUNTIF(obs!H23:M23,"T")+COUNTIF(obs!H29:M29,"x")+COUNTIF(obs!H29:M29,"Z")+COUNTIF(obs!H29:M29,"T") -> 5 | C12: =COUNTIF(obs!N5:S5,"x")+COUNTIF(obs!N5:S5,"Z")+COUNTIF(obs!N5:S5,"T")+COUNTIF(obs!N11:S11,"x")+COUNTIF(obs!N11:S11,"Z")+COUNTIF(obs!N11:S11,"T")+COUNTIF(obs!N17:S17,"x")+COUNTIF(obs!N17:S17,"Z")+COUNTIF(obs!N17:S17,"T")+COUNTIF(obs!N23:S23,"x")+COUNTIF(obs!N23:S23,"Z")+COUNTIF(obs!N23:S23,"T")+COUNTIF(obs!N29:S29,"x")+COUNTIF(obs!N29:S29,"Z")+COUNTIF(obs!N29:S29,"T") -> 5 | D12: =COUNTIF(obs!T5:Y5,"x")+COUNTIF(obs!T5:Y5,"Z")+COUNTIF(obs!T5:Y5,"T")+COUNTIF(obs!T11:Y11,"x")+COUNTIF(obs!T11:Y11,"Z")+COUNTIF(obs!T11:Y11,"T")+COUNTIF(obs!T17:Y17,"x")+COUNTIF(obs!T17:Y17,"Z")+COUNTIF(obs!T17:Y17,"T")+COUNTIF(obs!T23:Y23,"x")+COUNTIF(obs!T23:Y23,"Z")+COUNTIF(obs!T23:Y23,"T")+COUNTIF(obs!T29:Y29,"x")+COUNTIF(obs!T29:Y29,"Z")+COUNTIF(obs!T29:Y29,"T") -> 5 | E12: =COUNTIF(obs!Z5:AI5,"x")+COUNTIF(obs!Z5:AI5,"Z")+COUNTIF(obs!Z5:AI5,"T")+COUNTIF(obs!Z11:AE11,"x")+COUNTIF(obs!Z11:AE11,"Z")+COUNTIF(obs!Z11:AE11,"T")+COUNTIF(obs!Z17:AI17,"x")+COUNTIF(obs!Z17:AI17,"Z")+COUNTIF(obs!Z17:AI17,"T")+COUNTIF(obs!Z23:AE23,"x")+COUNTIF(obs!Z23:AE23,"Z")+COUNTIF(obs!Z23:AE23,"T")+COUNTIF(obs!Z29:AE29,"x")+COUNTIF(obs!Z29:AE29,"Z")+COUNTIF(obs!Z29:AE29,"T") -> 3
A13: =A12/F8 -> 0.2173913 | B13: =B12/F8 -> 0.2173913 | C13: =C12/F8 -> 0.2173913 | D13: =D12/F8 -> 0.2173913 | E13: =E12/F8 -> 0.13043478
A14: Targets - Max
A15: Min 1 | B15: Min 2 | C15: Min 3 | D15: Min 4 | E15: Min 5
A16: 0.25 | B16: 0.2 | C16: 0.1 | D16: 0.2 | E16: 0.25
A18: Problem Solving -Attempts to Correct Read | F18: Average Attempts to Correct Read | H18: Target - Max Average
A19: B1 | B19: B2 | C19: B3 | D19: B4 | E19: B5
A20: =obs!AJ6 -> 2 | B20: =obs!AJ12 -> 3 | C20: =obs!AJ18 -> 1 | D20: =obs!AJ24 -> 5 | E20: =obs!AJ30 -> 3 | F20: =AVERAGE(A20:E20) -> 2.8 | H20: 3
